BEGIN:VCALENDAR
VERSION:2.0
PRODID:-//perfectingchurch.org - ECPv6.13.2.1//NONSGML v1.0//EN
CALSCALE:GREGORIAN
METHOD:PUBLISH
X-WR-CALNAME:perfectingchurch.org
X-ORIGINAL-URL:https://perfectingchurch.org
X-WR-CALDESC:Events for perfectingchurch.org
REFRESH-INTERVAL;VALUE=DURATION:PT1H
X-Robots-Tag:noindex
X-PUBLISHED-TTL:PT1H
BEGIN:VTIMEZONE
TZID:America/New_York
BEGIN:DAYLIGHT
TZOFFSETFROM:-0500
TZOFFSETTO:-0400
TZNAME:EDT
DTSTART:20260308T070000
END:DAYLIGHT
BEGIN:STANDARD
TZOFFSETFROM:-0400
TZOFFSETTO:-0500
TZNAME:EST
DTSTART:20261101T060000
END:STANDARD
END:VTIMEZONE
BEGIN:VEVENT
DTSTART;TZID=America/New_York:20260422T133000
DTEND;TZID=America/New_York:20260422T143000
DTSTAMP:20260422T122905
CREATED:20250923T225350Z
LAST-MODIFIED:20260319T223830Z
UID:6444-1776864600-1776868200@perfectingchurch.org
SUMMARY:P Care - Gleaners Food Distribution
DESCRIPTION:
URL:https://perfectingchurch.org/event/p-care-gleaners-food-distribution-10/
ATTACH;FMTTYPE=image/png:https://perfectingchurch.org/wp-content/uploads/2025/02/Gleaners-Food-Giveaway.png
END:VEVENT
END:VCALENDAR