BEGIN:VCALENDAR
VERSION:2.0
PRODID:-//perfectingchurch.org - ECPv6.13.2.1//NONSGML v1.0//EN
CALSCALE:GREGORIAN
METHOD:PUBLISH
X-WR-CALNAME:perfectingchurch.org
X-ORIGINAL-URL:https://perfectingchurch.org
X-WR-CALDESC:Events for perfectingchurch.org
REFRESH-INTERVAL;VALUE=DURATION:PT1H
X-Robots-Tag:noindex
X-PUBLISHED-TTL:PT1H
BEGIN:VTIMEZONE
TZID:America/New_York
BEGIN:DAYLIGHT
TZOFFSETFROM:-0500
TZOFFSETTO:-0400
TZNAME:EDT
DTSTART:20260308T070000
END:DAYLIGHT
BEGIN:STANDARD
TZOFFSETFROM:-0400
TZOFFSETTO:-0500
TZNAME:EST
DTSTART:20261101T060000
END:STANDARD
END:VTIMEZONE
BEGIN:VEVENT
DTSTART;TZID=America/New_York:20260419T090000
DTEND;TZID=America/New_York:20260419T101500
DTSTAMP:20260424T043102
CREATED:20260210T195047Z
LAST-MODIFIED:20260319T223829Z
UID:7437-1776589200-1776593700@perfectingchurch.org
SUMMARY:Academy to Perfection (Spring 2026 Semester)
DESCRIPTION:
URL:https://perfectingchurch.org/event/academy-to-perfection-spring-2026-semester-8/
ATTACH;FMTTYPE=image/png:https://perfectingchurch.org/wp-content/uploads/2026/02/800x800-800-x-800-px-2.png
END:VEVENT
END:VCALENDAR